BEGIN:VCALENDAR
VERSION:2.0
PRODID:-//MHRF - ECPv6.2.3//NONSGML v1.0//EN
CALSCALE:GREGORIAN
METHOD:PUBLISH
X-WR-CALNAME:MHRF
X-ORIGINAL-URL:https://mhrf.se
X-WR-CALDESC:Events for MHRF
REFRESH-INTERVAL;VALUE=DURATION:PT1H
X-Robots-Tag:noindex
X-PUBLISHED-TTL:PT1H
BEGIN:VTIMEZONE
TZID:Europe/Stockholm
BEGIN:DAYLIGHT
TZOFFSETFROM:+0100
TZOFFSETTO:+0200
TZNAME:CEST
DTSTART:20260329T010000
END:DAYLIGHT
BEGIN:STANDARD
TZOFFSETFROM:+0200
TZOFFSETTO:+0100
TZNAME:CET
DTSTART:20261025T010000
END:STANDARD
END:VTIMEZONE
BEGIN:VEVENT
DTSTART;TZID=Europe/Stockholm:20260429T180000
DTEND;TZID=Europe/Stockholm:20260429T200000
DTSTAMP:20260424T165859
CREATED:20260422T110113Z
LAST-MODIFIED:20260422T110113Z
UID:198788-1777485600-1777492800@mhrf.se
SUMMARY:Vidareutbildning fordonsinspektörer och försäkringssamordnare MHRF-försäkringen
DESCRIPTION:  \nDigitalutbildning via teams för fordonsinspektörer och försäkringssamordnare för MHRF-försäkringen. \nOBS! Detta event är endast öppen för dessa\, ej publikt. \nDatum: 29/4 kl: 18:00 – 20.00 \n  \nAnmäl dig nedan:
URL:https://mhrf.se/event/vidareutbildning-fordonsinspektorer-och-forsakringssamordnare-mhrf-forsakringen/
END:VEVENT
END:VCALENDAR